BEGIN:VCALENDAR
VERSION:2.0
PRODID:Events Booking
BEGIN:VEVENT
UID:69e7381b5da97
SUMMARY:Bauenschweiz Webinar #5 Beschaffungsrecht
DESCRIPTION:Vergabemonitor 2.0 und Analyse des Zuschlagskriteriums «Nachha
 ltigkeit» (2021–2025).Im Fokus dieses Webinars steht die Analyse des Zu
 schlagskriteriums «Nachhaltigkeit» von 2021–2025. Es wird die überarb
 eitete Version des Vergabemonitors vorgestellt und aufgezeigt\, wie sich d
 as Zuschlagskriterium seit der Einführung des neuen Rechts entwickelt hat
 .
LOCATION:Zürich\, Schweiz
DTSTART:20250519T133000Z
DTEND:20250519T150000Z
DTSTAMP:20250422T062413Z
ORGANIZER;CN=IFMA Schweiz :MAILTO:admin@ifma.ch
GEO:47.376887;8.541694
X-APPLE-STRUCTURED-LOCATION;VALUE=URI;X-ADDRESS=Zürich\, Schweiz;X-APPLE-R
 ADIUS=72;X-TITLE=online:47.376887;8.541694
END:VEVENT
END:VCALENDAR