BEGIN:VCALENDAR
VERSION:2.0
PRODID:Events Booking
BEGIN:VEVENT
UID:69e7cca705d78
SUMMARY:Wohnungsnot und Klimakrise - gemeinsame Lösungsansätze
DESCRIPTION:Es erwarten uns drei Referate
 
 Wohnungsnot und Klimakrise 
 – nur Zielkonflikte?
 Neubauten verbieten und unsichtbaren Wohnraum nut
 zen – Lösungen in Zeiten der Klimakrise und Wohnungsnot
 Planen\, Baue
 n und Erneuern im Sinn der Nachhaltigkeit
 
LOCATION:Weinbergstrasse 36\, 8006 Zürich\, Schweiz
DTSTART:20231114T161500Z
DTEND:20231114T180000Z
DTSTAMP:20231011T093715Z
ORGANIZER;CN=IFMA Schweiz :MAILTO:admin@ifma.ch
GEO:47.379872;8.544478
X-APPLE-STRUCTURED-LOCATION;VALUE=URI;X-ADDRESS=Weinbergstrasse 36\, 8006 Z
 ürich\, Schweiz;X-APPLE-RADIUS=72;X-TITLE=Zürich\, Pfarreizentrum Liebfr
 auen:47.379872;8.544478
END:VEVENT
END:VCALENDAR