BEGIN:VCALENDAR
VERSION:2.0
PRODID:Events Booking
BEGIN:VEVENT
UID:69e8e5ac12a2c
SUMMARY:Wege zum ressourcenschonenden Bauen\, Vortrag 1
DESCRIPTION:Im Rahmen der Vortragsreihe \"Blauer Montag FS22\" des Zentrums
  Bautechnololgie und Prozesse (ZBP) referieren Prof. Daniel Hall\, ETHZ\, 
 und Konrad Graser\, ETHZ / ZHAW zum Thema \"Process innovation in construc
 tion: Integrated project delivery and beyond\".
 &nbsp\;
LOCATION:Tössfeldstrasse 11\, 8401 Winterthur\, Schweiz
DTSTART:20220328T160000Z
DTEND:20220327T220000Z
DTSTAMP:20260422T171348Z
ORGANIZER;CN=IFMA Schweiz :MAILTO:admin@ifma.ch
GEO:47.493099;8.716691
X-APPLE-STRUCTURED-LOCATION;VALUE=URI;X-ADDRESS=Tössfeldstrasse 11\, 8401 
 Winterthur\, Schweiz;X-APPLE-RADIUS=72;X-TITLE=Winterthur\, ZHAW\, Gebäud
 e MC\, Blauer Saal:47.493099;8.716691
END:VEVENT
END:VCALENDAR