BEGIN:VCALENDAR
VERSION:2.0
PRODID:Events Booking
BEGIN:VEVENT
UID:69e6f1c8ddc0d
SUMMARY:Vielfalt in der Architektur
DESCRIPTION:Vielfalt in der Architektur\, Einheit in Bezug auf die nachhalt
 ige Umsetzung&nbsp\;– so präsentiert sich das Suurstoffi Areal in Rotkr
 euz. Es bietet einiges: vom Gartenhochhaus mit einem durchdachten Begrünu
 ngskonzept\, über das BIM geplante höchste Holzhochhaus der Schweiz\, bi
 s hin zu einem naturnahen Aussenraum.
 Führung durch:Lukas Meyer\, dipl.
  Architekt ETH SIASimon Büttgenbach\, MSc in Nachhaltige Gebäudetechnik
LOCATION:Suurstoffi 1\, 6343 Risch-Rotkreuz\, Schweiz
DTSTART:20200818T151500Z
DTEND:20200818T170000Z
DTSTAMP:20260421T054056Z
ORGANIZER;CN=IFMA Schweiz :MAILTO:admin@ifma.ch
GEO:47.144135;8.433988
X-APPLE-STRUCTURED-LOCATION;VALUE=URI;X-ADDRESS=Suurstoffi 1\, 6343 Risch-R
 otkreuz\, Schweiz;X-APPLE-RADIUS=72;X-TITLE=Suurstoffi Areal\, Rotkreuz:47
 .144135;8.433988
END:VEVENT
END:VCALENDAR