BEGIN:VCALENDAR
VERSION:2.0
PRODID:Events Booking
BEGIN:VEVENT
UID:69e726c415261
SUMMARY:Swissbau Innovation Lab on Tour
DESCRIPTION:Konkrete Lösungen und Anwendungsfälle stehen in den Fokus und
  ermöglichen den Erfahrungsaustausch unter den Teilnehmern.
LOCATION:Zürich\, Schweiz
DTSTART:20201126T120000Z
DTEND:20201126T154500Z
DTSTAMP:20260421T092700Z
ORGANIZER;CN=IFMA Schweiz :MAILTO:admin@ifma.ch
GEO:47.376887;8.541694
X-APPLE-STRUCTURED-LOCATION;VALUE=URI;X-ADDRESS=Zürich\, Schweiz;X-APPLE-R
 ADIUS=72;X-TITLE=online:47.376887;8.541694
END:VEVENT
END:VCALENDAR