BEGIN:VCALENDAR
VERSION:2.0
PRODID:Events Booking
BEGIN:VEVENT
UID:69e7e0c40993e
SUMMARY:Swiss Lighting Forum
DESCRIPTION:Das Swiss Lighting Forum vereint Wissen\, Praxisbezug und Techn
 ik. Es ist die ideale Plattform für alle\, die Licht mitgestalten\, die L
 ichttechnik verstehen wollen und Lichtprojekte umsetzen.IFMA Mitglieder pr
 ofitieren von einem Nachlass auf den Eintritt mit dem Code \"VPARTNER\".
LOCATION:Technopark\, Technoparkstrasse 1\, 8005 Zürich\, Schweiz
DTSTART:20240131T071000Z
DTEND:20240131T163000Z
DTSTAMP:20240111T125418Z
ORGANIZER;CN=IFMA Schweiz :MAILTO:admin@ifma.ch
GEO:47.389844;8.515625
X-APPLE-STRUCTURED-LOCATION;VALUE=URI;X-ADDRESS=Technopark\, Technoparkstra
 sse 1\, 8005 Zürich\, Schweiz;X-APPLE-RADIUS=72;X-TITLE=Zürich\, Technop
 ark:47.389844;8.515625
END:VEVENT
END:VCALENDAR