BEGIN:VCALENDAR
VERSION:2.0
PRODID:Events Booking
BEGIN:VEVENT
UID:69ea05d7cbdb2
SUMMARY:svit five: Real Estate Symposium
DESCRIPTION:Wir sprechen vom «New Normal» und meinen damit die Zukunft\, 
 die uns die anhaltende Krise und die Digitalisierung bringen wird. Was bed
 eutet «New Normal» für die Immobilienbranche?
LOCATION:Zürich\, Schweiz
DTSTART:20210316T073000Z
DTEND:20210316T094500Z
DTSTAMP:20260423T134319Z
ORGANIZER;CN=IFMA Schweiz :MAILTO:admin@ifma.ch
GEO:47.376887;8.541694
X-APPLE-STRUCTURED-LOCATION;VALUE=URI;X-ADDRESS=Zürich\, Schweiz;X-APPLE-R
 ADIUS=72;X-TITLE=online:47.376887;8.541694
END:VEVENT
END:VCALENDAR