BEGIN:VCALENDAR
VERSION:2.0
PRODID:Events Booking
BEGIN:VEVENT
UID:69e7e07fe4cd0
SUMMARY:Webinaire fmpro Romandie: Profil de métier FM
DESCRIPTION:Nous assisterons à une présentation de&nbsp\;Karin Schaad&nbs
 p\;et&nbsp\;Marco Stäuble\, sur le nouveau «&nbsp\;Profil de métier FM&
 nbsp\;» développé par fmpro en collaboration avec l’IFMA et d’autre
 s partenaires.&nbsp\;
 Le «Profil de métier FM» vise à expliciter les
  divers métiers agissant dans le cadre du FM\, notamment à l’intention
  du public\, de personnes en formation ou en reconversion. Il s’agit d
 ’un outil précieux poiur faire comprendre la plus-value apportée par n
 otre secteur.
 La participation est gratuite et le lien vous sera transmi
 s après inscription.
LOCATION:Zürich\, Schweiz
DTSTART:20240131T110000Z
DTEND:20240131T113000Z
DTSTAMP:20240125T082451Z
ORGANIZER;CN=IFMA Schweiz :MAILTO:admin@ifma.ch
GEO:47.376887;8.541694
X-APPLE-STRUCTURED-LOCATION;VALUE=URI;X-ADDRESS=Zürich\, Schweiz;X-APPLE-R
 ADIUS=72;X-TITLE=online:47.376887;8.541694
END:VEVENT
END:VCALENDAR