BEGIN:VCALENDAR
VERSION:2.0
PRODID:Events Booking
BEGIN:VEVENT
UID:69e74f1f884a8
SUMMARY:Null CO2 – Kompatible Bauteile und Baustoffe
DESCRIPTION:
 Bauen mit minimalen CO2-EmissionenJules Petit\, Dienstleistu
 ngsverantwortlicher Wettbewerbsbegeleitung\, Lemon Consult AG
 Stampflehm
  – Baustoff der ZukunftMartin Rauch\, Gründer und Geschäftsführer\, L
 ehm Ton Erde Baukunst GmbH\, Schlins\, Österreich
 Wärme- / Kälteverte
 ilung im Gebäude im Kontext des KlimawandelsWolfgang Thiele\, CEO KIGO by
  Energie Solaire SA
 
LOCATION:Weinbergstrasse 36\, 8006 Zürich\, Schweiz
DTSTART:20210302T161500Z
DTEND:20210302T180000Z
DTSTAMP:20260421T121911Z
ORGANIZER;CN=IFMA Schweiz :MAILTO:admin@ifma.ch
GEO:47.379872;8.544478
X-APPLE-STRUCTURED-LOCATION;VALUE=URI;X-ADDRESS=Weinbergstrasse 36\, 8006 Z
 ürich\, Schweiz;X-APPLE-RADIUS=72;X-TITLE=Zürich\, Pfarreizentrum Liebfr
 auen:47.379872;8.544478
END:VEVENT
END:VCALENDAR