BEGIN:VCALENDAR
VERSION:2.0
PRODID:Events Booking
BEGIN:VEVENT
UID:69e79fe4b3e56
SUMMARY:Netzwerktreffen Ostschweiz
DESCRIPTION:Besichtigung des Rechenzentrums Gais.
LOCATION:Gais\, Schweiz
DTSTART:20230315T230000Z
DTEND:20230315T230000Z
DTSTAMP:20260421T180348Z
ORGANIZER;CN=IFMA Schweiz :MAILTO:admin@ifma.ch
GEO:47.362153;9.452446
X-APPLE-STRUCTURED-LOCATION;VALUE=URI;X-ADDRESS=Gais\, Schweiz;X-APPLE-RADI
 US=72;X-TITLE=Gais AR:47.362153;9.452446
END:VEVENT
END:VCALENDAR