BEGIN:VCALENDAR
VERSION:2.0
PRODID:Events Booking
BEGIN:VEVENT
UID:69eca9234a870
SUMMARY:Netzdienliches Laden von Elektroautos
DESCRIPTION:Aktuelle Entwicklungen und Erkenntnisse aus dem Projekt «V2X S
 uisse»
 Bisher war die Schweiz primär im Bereich V2H (Vehicle-to-Home)\
 , also «behind the meter» erfolgreich. Dank bidirektionalem Laden kann j
 eder der eine PV-Anlage betreibt den Eigenverbrauch steigern\, ohne extra 
 eine stationäre Batterie dazu kaufen zu müssen.
 Referent: Marco Piffar
 etti\, Mitgründer sun2wheel AGModeration:  Vorstand Forum Energie Zürich
LOCATION:Zürich\, Schweiz
DTSTART:20230515T100000Z
DTEND:20230515T103000Z
DTSTAMP:20230317T142305Z
ORGANIZER;CN=IFMA Schweiz :MAILTO:admin@ifma.ch
GEO:47.376887;8.541694
X-APPLE-STRUCTURED-LOCATION;VALUE=URI;X-ADDRESS=Zürich\, Schweiz;X-APPLE-R
 ADIUS=72;X-TITLE=online:47.376887;8.541694
END:VEVENT
END:VCALENDAR