BEGIN:VCALENDAR
VERSION:2.0
PRODID:Events Booking
BEGIN:VEVENT
UID:69e7604e8a850
SUMMARY:NEST: Erforschung der Zukunft von Gebäuden
DESCRIPTION:FEZ SpecialNEST ist ein modular aufgebautes Forschungs- und Inn
 ovationsgebäude der beiden Schweizer Forschungsinstitute Empa und Eawag. 
 An diesem Anlass werden drei Units zu folgenden Themen besucht:
 
 Leich
 tbau\, verantwortungsvoller Umgang mit unseren natürlichen Ressourcen
 F
 lexibler Rückbau
 WaterHub zum Thema dezentrale Abwassserbehandlung
 
LOCATION:Überlandstrasse 129\, 8600 Dübendorf\, Schweiz
DTSTART:20220531T150000Z
DTEND:20220531T163000Z
DTSTAMP:20260421T133230Z
ORGANIZER;CN=IFMA Schweiz :MAILTO:admin@ifma.ch
GEO:47.402243;8.612034
X-APPLE-STRUCTURED-LOCATION;VALUE=URI;X-ADDRESS=Überlandstrasse 129\, 8600
  Dübendorf\, Schweiz;X-APPLE-RADIUS=72;X-TITLE=Dübendorf\, NEST:47.40224
 3;8.612034
END:VEVENT
END:VCALENDAR