BEGIN:VCALENDAR
VERSION:2.0
PRODID:Events Booking
BEGIN:VEVENT
UID:69e79f6c7c0b2
SUMMARY:Klimafreundliche Baumaterialien
DESCRIPTION:FEZ ENERGIE Event
 
 Baumaterialien für Städte im Klimawand
 el - ein Materialkatalog mit Empfehlungen
 Innovation in der Betonbauweis
 e
 Dampfdiffusionsoffenbauen - nichts neues?
 
LOCATION:Weinbergstrasse 36\, 8006 Zürich\, Schweiz
DTSTART:20230314T161500Z
DTEND:20230314T180000Z
DTSTAMP:20260421T180148Z
ORGANIZER;CN=IFMA Schweiz :MAILTO:admin@ifma.ch
GEO:47.379872;8.544478
X-APPLE-STRUCTURED-LOCATION;VALUE=URI;X-ADDRESS=Weinbergstrasse 36\, 8006 Z
 ürich\, Schweiz;X-APPLE-RADIUS=72;X-TITLE=Zürich\, Pfarreizentrum Liebfr
 auen:47.379872;8.544478
END:VEVENT
END:VCALENDAR