BEGIN:VCALENDAR
VERSION:2.0
PRODID:Events Booking
BEGIN:VEVENT
UID:69ea05f35124e
SUMMARY:Inuas Konferenz 2021
DESCRIPTION:ZEIT\, RAUM\, ENERGIE\, MATERIAL
LOCATION:Zürich\, Schweiz
DTSTART:20210302T230000Z
DTEND:20210304T230000Z
DTSTAMP:20260423T134347Z
ORGANIZER;CN=IFMA Schweiz :MAILTO:admin@ifma.ch
GEO:47.376887;8.541694
X-APPLE-STRUCTURED-LOCATION;VALUE=URI;X-ADDRESS=Zürich\, Schweiz;X-APPLE-R
 ADIUS=72;X-TITLE=online:47.376887;8.541694
END:VEVENT
END:VCALENDAR