BEGIN:VCALENDAR
VERSION:2.0
PRODID:Events Booking
BEGIN:VEVENT
UID:69e74b0991319
SUMMARY:Inspiration Center Siemens und ordentliche GV GNI
DESCRIPTION:Programm:
 
 Referat \"Smart Buildings connect the real and d
 igital world\"\, Klaus Jank Branch Manager\, SiemensBesuch (in Gruppen)
 
 
 Inspirationcenter: Interaktive Führung die Lösungen für die Bereiche
  Nachhaltigkeit\, Digitalisierung\, Sicherheit und Komfort aufzeigt.
 Pro
 duktion: Besichtigung einer der innovativsten Fabriken Europas wo Brandmel
 der und Gebäudetechnikteile produziert werden.
 
 
 
 
 Kaffeepause
 
 16.00-17.30h ordentliche Generalversammlung
 17.30-19.00h Apéro
 
LOCATION:Theilerstrasse 1a\, 6300 Zug\, Schweiz
DTSTART:20230525T120000Z
DTEND:20230525T173000Z
DTSTAMP:20230420T105452Z
ORGANIZER;CN=IFMA Schweiz :MAILTO:admin@ifma.ch
GEO:47.179358;8.514211
X-APPLE-STRUCTURED-LOCATION;VALUE=URI;X-ADDRESS=Theilerstrasse 1a\, 6300 Zu
 g\, Schweiz;X-APPLE-RADIUS=72;X-TITLE=Zug\, Siemens Headquarter:47.179358;
 8.514211
END:VEVENT
END:VCALENDAR