BEGIN:VCALENDAR
VERSION:2.0
PRODID:Events Booking
BEGIN:VEVENT
UID:69eb9d49d46b1
SUMMARY:IFMA Meets: LCC-Leitfaden - Lebenszykluskosten systematisch analysi
 eren
DESCRIPTION:Der neue «LCC-Leitfaden»\, den CRB zusammen mit IFMA Schweiz 
 erarbeitet hat\, stellt die Grundlagen für die Ermittlung von Lebenszyklu
 skosten bereit. Mit dem dazugehörigen «LCC-Kalkulator» lassen sich Kost
 en über den gesamten Lebenszyklus eines Gebäudes analysieren. Dies erlei
 chtert die Entscheidungsfindung und unterstützt eine nachhaltige und kost
 enbewusste Planung von Immobilien.
LOCATION:Zürich\, Schweiz
DTSTART:20260622T143000Z
DTEND:20260622T153000Z
DTSTAMP:20260423T104416Z
ORGANIZER;CN=IFMA Schweiz :MAILTO:admin@ifma.ch
GEO:47.376887;8.541694
X-APPLE-STRUCTURED-LOCATION;VALUE=URI;X-ADDRESS=Zürich\, Schweiz;X-APPLE-R
 ADIUS=72;X-TITLE=online:47.376887;8.541694
END:VEVENT
END:VCALENDAR