BEGIN:VCALENDAR
VERSION:2.0
PRODID:Events Booking
BEGIN:VEVENT
UID:69e6001cb3c9a
SUMMARY:GV SVIT FM Schweiz
DESCRIPTION:
DTSTART:20170921T070000Z
DTEND:20170921T150000Z
DTSTAMP:20260420T122948Z
ORGANIZER;CN=IFMA Schweiz :MAILTO:admin@ifma.ch
END:VEVENT
END:VCALENDAR