BEGIN:VCALENDAR
VERSION:2.0
PRODID:Events Booking
BEGIN:VEVENT
UID:69e9e2613a17e
SUMMARY:Genossenschaftssiedlung Buchegg
DESCRIPTION:Leider kann weder eine physische noch eine digitale Besichtigun
 g realisiert werden. Demnächst werden wir hier ein Interview mit spannend
 en Einblicken zum Objekt publizieren.
LOCATION:schriftliches Interview
DTSTART:20200901T151500Z
DTEND:20200901T170000Z
DTSTAMP:20260423T111201Z
ORGANIZER;CN=IFMA Schweiz :MAILTO:admin@ifma.ch
END:VEVENT
END:VCALENDAR