BEGIN:VCALENDAR
VERSION:2.0
PRODID:Events Booking
BEGIN:VEVENT
UID:69e7a00ce7872
SUMMARY:Generalversammlung SVIT FM Schweiz 2023
DESCRIPTION:An der Generalversammlung SVIT FM Schweiz 2023 können Sie abst
 immen und aus erster Hand News zum Verbandsjahr 2022 hören.
LOCATION:Türliackerstrasse 4\, 8957 Spreitenbach\, Schweiz
DTSTART:20230328T080000Z
DTEND:20230328T100000Z
DTSTAMP:20260421T180428Z
ORGANIZER;CN=IFMA Schweiz :MAILTO:admin@ifma.ch
GEO:47.424427;8.367081
X-APPLE-STRUCTURED-LOCATION;VALUE=URI;X-ADDRESS=Türliackerstrasse 4\, 8957
  Spreitenbach\, Schweiz;X-APPLE-RADIUS=72;X-TITLE=Spreitenbach Umweltarena
 :47.424427;8.367081
END:VEVENT
END:VCALENDAR