BEGIN:VCALENDAR
VERSION:2.0
PRODID:Events Booking
BEGIN:VEVENT
UID:69ea073a0e3ca
SUMMARY:Gebäudemanagement: Der integrale Ansatz führt zum Erfolg
DESCRIPTION:Im Rahmen einer strategischen Erweiterung zur Erhöhung der Kap
 azitäten und des Sportangebotes wurde ein umfangreiches Bau-und Renovatio
 nsprojekt gestartet\, das von November 2018 bis Ende 2021 dauerte. Dies be
 inhaltet eine Dreifachsporthalle\, einen Werkhof\, einen auffallenden Ersa
 tzneubau für den Unterkunftstrakt und diverse Theorie-\, Gemeinschafts-\,
  Regenerations- und Sportmedizinische Räume.
 
 Erweiterungen und Anpas
 sungen des SZK: Ein tolles Abenteuer
 Integrative Gebäudeautomation – 
 etappenweise in die Zukunft
 Von den Räumen bis zu den Visualisierungsl
 ösungen
 
LOCATION:Panoramastrasse 8\, 8757 Filzbach\, Schweiz
DTSTART:20220524T150000Z
DTEND:20220524T170000Z
DTSTAMP:20220504T072306Z
ORGANIZER;CN=IFMA Schweiz :MAILTO:admin@ifma.ch
GEO:47.121293;9.127129
X-APPLE-STRUCTURED-LOCATION;VALUE=URI;X-ADDRESS=Panoramastrasse 8\, 8757 Fi
 lzbach\, Schweiz;X-APPLE-RADIUS=72;X-TITLE=:47.121293;9.127129
END:VEVENT
END:VCALENDAR