BEGIN:VCALENDAR
VERSION:2.0
PRODID:Events Booking
BEGIN:VEVENT
UID:69e4f2d4b5bf7
SUMMARY:Forum ö 2022: Let's Rethink Business - Wandel geht nur kollaborati
 v
DESCRIPTION:Die Wirtschaft braucht nicht nur zahlreiche grüne Versprechen\
 , sondern eine grundsätzliche Neuausrichtung auf Nachhaltigkeit. DasForum
  ö 2022 gestaltet seine Mission des Wirtschaftens von Grund auf neu und e
 rarbeitet konkrete Ansätze\, um nachhaltiges Wirtschaften kollaborativ um
 zusetzen.
 &nbsp\;
LOCATION:Pfingstweidstrasse 101\, 8005 Zürich\, Schweiz
DTSTART:20221026T060000Z
DTEND:20221026T150000Z
DTSTAMP:20220324T131128Z
ORGANIZER;CN=IFMA Schweiz :MAILTO:admin@ifma.ch
GEO:47.390273;8.507418
X-APPLE-STRUCTURED-LOCATION;VALUE=URI;X-ADDRESS=Pfingstweidstrasse 101\, 80
 05 Zürich\, Schweiz;X-APPLE-RADIUS=72;X-TITLE=Zürich\, eins0eins (im Tan
 zwerk 101):47.390273;8.507418
END:VEVENT
END:VCALENDAR