BEGIN:VCALENDAR
VERSION:2.0
PRODID:Events Booking
BEGIN:VEVENT
UID:69e9dc0a27e6a
SUMMARY:fmpro Netzwerktreffen
DESCRIPTION:Jeweils am ersten Dienstag im Monat\, von 7.30 – 8.30 Uhr\, t
 reffen sich Interessierte im Hauptbahnhof Zürich zum losen Netzwerken bei
  Kaffee und Gipfeli.&nbsp\;Special-Guest&nbsp\;Sabine von Stockar\, Mitgli
 ed der Geschäftsleitung Minergie Schweiz und Leiterin Bildung und Entwick
 lung\, wird an dem Treffen über Minergie im Betrieb referieren.
 Der Anl
 ass ist aufgrund des Coronavirus abgesagt.
LOCATION:Southern section\, Bahnhofpl. 15\, 8001 Zürich\, Schweiz
DTSTART:20200407T053000Z
DTEND:20200407T063000Z
DTSTAMP:20260423T104458Z
ORGANIZER;CN=IFMA Schweiz :MAILTO:admin@ifma.ch
GEO:47.3777;8.5392
X-APPLE-STRUCTURED-LOCATION;VALUE=URI;X-ADDRESS=Southern section\, Bahnhofp
 l. 15\, 8001 Zürich\, Schweiz;X-APPLE-RADIUS=72;X-TITLE=Zürich\, HB\, Ti
 me Lounge & Bar:47.3777;8.5392
END:VEVENT
END:VCALENDAR