BEGIN:VCALENDAR
VERSION:2.0
PRODID:Events Booking
BEGIN:VEVENT
UID:69e9f19eac111
SUMMARY:fm Symposium
DESCRIPTION:
 Key Note Referat von Urs Meier\, bekannter ehemaliger FIFA S
 chiedsrichter und heute TV-Experte und Redner
 Fachtagungstracks zu «FM 
 &amp\; Maintenance als Erfolgsfaktor» und «Führung – aktuelle Herausf
 orderungen»
 Duo Luna-Tic - 4 Hände\, 2 Stimmen\, 1 Klavier sorgen für
  Stimmung an der fmpro Night
 New Workplace – Besichtigung Post Hauptsi
 tz am zweiten Tag
 Generalversammlung fmpro mit Informationen aus dem Ver
 band
 
 Der Anlass ist aufgrund des Coronavirus abgesagt und findet im 2
 021 wiederum im Frühling statt.
 Die Generalversammlung erfolgt virtuell
 \, Informationen dazu erhalten alle Mitglieder direkt von fmpro.
LOCATION:Papiermühlestrasse 71\, 3014 Bern\, Schweiz
DTSTART:20200402T100000Z
DTEND:20200403T120000Z
DTSTAMP:20260423T121702Z
ORGANIZER;CN=IFMA Schweiz :MAILTO:admin@ifma.ch
GEO:46.963151;7.465038
X-APPLE-STRUCTURED-LOCATION;VALUE=URI;X-ADDRESS=Papiermühlestrasse 71\, 30
 14 Bern\, Schweiz;X-APPLE-RADIUS=72;X-TITLE=Bern\, Stade de Suisse:46.9631
 51;7.465038
END:VEVENT
END:VCALENDAR