BEGIN:VCALENDAR
VERSION:2.0
PRODID:Events Booking
BEGIN:VEVENT
UID:69ea329589889
SUMMARY:Esg2go
DESCRIPTION:Esg2go ist ein Tool zur einfachen Nachhaltigkeitsbewertung und 
 -berichterstattung\, dessen Ziel es ist Zeit- und Kostenaufwand für einen
  Nachhaltigkeitsausweis zu reduzieren. Davon können vor allem KMU profiti
 eren\, denen ansonsten oft die Ressourcen dafür fehlen.
LOCATION:Zürich\, Schweiz
DTSTART:20240126T070000Z
DTEND:20240126T080000Z
DTSTAMP:20231206T134920Z
ORGANIZER;CN=IFMA Schweiz :MAILTO:admin@ifma.ch
GEO:47.376887;8.541694
X-APPLE-STRUCTURED-LOCATION;VALUE=URI;X-ADDRESS=Zürich\, Schweiz;X-APPLE-R
 ADIUS=72;X-TITLE=online:47.376887;8.541694
END:VEVENT
END:VCALENDAR