BEGIN:VCALENDAR
VERSION:2.0
PRODID:Events Booking
BEGIN:VEVENT
UID:69e60cab23be7
SUMMARY:Energy Startup Day
DESCRIPTION:Der Energy Startup Day ist eine jährliche Veranstaltung\, die 
 bahnbrechende Schweizer Energie- und Cleantech-Startups mit etablierten Un
 ternehmen\, öffentlichen Institutionen und Investoren zusammenbringt. Im 
 2022 findet der Energy Startup Day erstmals im Rahmen der Powertage statt\
 , in der Messe Zürich\, Halle 7.
 &nbsp\;
LOCATION:Wallisellenstrasse 49\, 8050 Zürich\, Schweiz
DTSTART:20220517T120000Z
DTEND:20220517T160000Z
DTSTAMP:20220324T131128Z
ORGANIZER;CN=IFMA Schweiz :MAILTO:admin@ifma.ch
GEO:47.411414;8.553362
X-APPLE-STRUCTURED-LOCATION;VALUE=URI;X-ADDRESS=Wallisellenstrasse 49\, 805
 0 Zürich\, Schweiz;X-APPLE-RADIUS=72;X-TITLE=Zürich\, Messe Zürich:47.4
 11414;8.553362
END:VEVENT
END:VCALENDAR