BEGIN:VCALENDAR
VERSION:2.0
PRODID:Events Booking
BEGIN:VEVENT
UID:69e7601fac2a8
SUMMARY:fmpro Netzwerktreffen Ostschweiz
DESCRIPTION:Das fmpro Netzwerktreffen findet alle zwei Monate statt und ist
  ein Treffen im lockeren Rahmen. Es dient Interessierten&nbsp\;als Plattfo
 rm für Wissen\, Netzwerk und Geselligkeit.&nbsp\;Themen werden von den Te
 ilnehmenden spontan angesprochen oder können im Vorfeld des Anlasses bei 
 der Netzwerkgruppe eingegeben werden.
LOCATION:Zürich HB\, Bahnhofpl.\, 8001 Zürich\, Schweiz
DTSTART:20201103T063000Z
DTEND:20201103T073000Z
DTSTAMP:20260421T133143Z
ORGANIZER;CN=IFMA Schweiz :MAILTO:admin@ifma.ch
GEO:47.377858;8.540323
X-APPLE-STRUCTURED-LOCATION;VALUE=URI;X-ADDRESS=Zürich HB\, Bahnhofpl.\, 8
 001 Zürich\, Schweiz;X-APPLE-RADIUS=72;X-TITLE=:47.377858;8.540323
END:VEVENT
END:VCALENDAR