BEGIN:VCALENDAR
VERSION:2.0
PRODID:Events Booking
BEGIN:VEVENT
UID:69e7e0a4ad641
SUMMARY:e-mobile Lade Forum
DESCRIPTION:Seien Sie dabei\, wenn sich Experten\, Hersteller und Innovator
 en an diesem Event versammeln\, um die neuesten Entwicklungen\, Herausford
 erungen und Chancen im Bereich der elektrischen Fahrzeugladetechnologie zu
  diskutieren. Das e-mobile Lade Forum 2024 bietet Ihnen eine einzigartige 
 Plattform\, um Ihr Fachwissen zu erweitern\, von branchenführenden Expert
 en zu lernen und wertvolle Kontakte zu knüpfen.IFMA Mitglieder erhalten e
 inen vergünstigten Eintritt mit dem Promocode VPARTNER.
LOCATION:Technopark\, Technoparkstrasse 1\, 8005 Zürich\, Schweiz
DTSTART:20240314T073000Z
DTEND:20240314T170000Z
DTSTAMP:20240112T064341Z
ORGANIZER;CN=IFMA Schweiz :MAILTO:admin@ifma.ch
GEO:47.389844;8.515625
X-APPLE-STRUCTURED-LOCATION;VALUE=URI;X-ADDRESS=Technopark\, Technoparkstra
 sse 1\, 8005 Zürich\, Schweiz;X-APPLE-RADIUS=72;X-TITLE=Zürich\, Technop
 ark:47.389844;8.515625
END:VEVENT
END:VCALENDAR