BEGIN:VCALENDAR
VERSION:2.0
PRODID:Events Booking
BEGIN:VEVENT
UID:69e7b3f2bdc75
SUMMARY:Digitalisation
DESCRIPTION:
LOCATION:Place de la Gare 11\, 1003 Lausanne\, Schweiz
DTSTART:20230928T150000Z
DTEND:20230928T180000Z
DTSTAMP:20230921T102146Z
ORGANIZER;CN=IFMA Schweiz :MAILTO:admin@ifma.ch
GEO:46.517239;6.627913
X-APPLE-STRUCTURED-LOCATION;VALUE=URI;X-ADDRESS=Place de la Gare 11\, 1003 
 Lausanne\, Schweiz;X-APPLE-RADIUS=72;X-TITLE=Lausanne\, Tibits:46.517239;6
 .627913
END:VEVENT
END:VCALENDAR