BEGIN:VCALENDAR
VERSION:2.0
PRODID:Events Booking
BEGIN:VEVENT
UID:69e74da962c14
SUMMARY:buildingSMART Switzerland Rooms Forum #1 2021 online
DESCRIPTION:Am buildingSMART Switzerland Rooms Forum präsentieren die «bS
 CH Rooms» ausgewählte Ergebnisse der Working Groups\, diskutieren wichti
 ge Entwicklungen und die Herausforderungen in Working Sessions.
 Kostenlo
 se Teilnahme via MS Teams
LOCATION:Zürich\, Schweiz
DTSTART:20210520T110000Z
DTEND:20210520T150000Z
DTSTAMP:20260421T121257Z
ORGANIZER;CN=IFMA Schweiz :MAILTO:admin@ifma.ch
GEO:47.376887;8.541694
X-APPLE-STRUCTURED-LOCATION;VALUE=URI;X-ADDRESS=Zürich\, Schweiz;X-APPLE-R
 ADIUS=72;X-TITLE=online:47.376887;8.541694
END:VEVENT
END:VCALENDAR