BEGIN:VCALENDAR
VERSION:2.0
PRODID:Events Booking
BEGIN:VEVENT
UID:69e5ffdfcdb0a
SUMMARY:Bürohaus im Plus
DESCRIPTION:Flumroc erneuert ihr 30 jähriges Bürohaus und präsentiert es
  als Plusenergiehaus.
LOCATION:Industriestrasse 8\, 8890 Flums\, Schweiz
DTSTART:20170927T150000Z
DTEND:20170927T163000Z
DTSTAMP:20260420T122847Z
ORGANIZER;CN=IFMA Schweiz :MAILTO:admin@ifma.ch
GEO:47.097836;9.345661
X-APPLE-STRUCTURED-LOCATION;VALUE=URI;X-ADDRESS=Industriestrasse 8\, 8890 F
 lums\, Schweiz;X-APPLE-RADIUS=72;X-TITLE=:47.097836;9.345661
END:VEVENT
END:VCALENDAR