BEGIN:VCALENDAR
VERSION:2.0
PRODID:Events Booking
BEGIN:VEVENT
UID:69ecbeee09daf
SUMMARY:Bieler InformationsManagement Tag 2024
DESCRIPTION:Informationsmanagement wird zu einem essenziellen Bestandteil d
 er modernen Projektabwicklung. In der heutigen Zeit wird Informationsmanag
 ement auf Baustellen von entscheidender Bedeutung für den Erfolg eines Pr
 ojekts. Die effektive Organisation\, Verwaltung und Bereitstellung von Inf
 ormationen beeinflusst massgeblich die Planung\, Ausführung und Fertigste
 llung von Bauprojekten. Die Tagung richtet sich an alle Fachleute\, die si
 ch mit dem Thema Digitalisierung im Bau beschäftigen.
LOCATION:Solothurnstrasse 102\, 2504 Biel\, Schweiz
DTSTART:20240925T070000Z
DTEND:20240925T150000Z
DTSTAMP:20240820T104120Z
ORGANIZER;CN=IFMA Schweiz :MAILTO:admin@ifma.ch
GEO:47.158689;7.276203
X-APPLE-STRUCTURED-LOCATION;VALUE=URI;X-ADDRESS=Solothurnstrasse 102\, 2504
  Biel\, Schweiz;X-APPLE-RADIUS=72;X-TITLE=Biel\, Berner Fachhochschule:47.
 158689;7.276203
END:VEVENT
END:VCALENDAR