BEGIN:VCALENDAR
VERSION:2.0
PRODID:Events Booking
BEGIN:VEVENT
UID:69e728367673f
SUMMARY:Automatische Überwachung der Performance
DESCRIPTION:Komplexität und Ansprüche an den Betrieb von Anlagen nehmen z
 u – zeitliche und personelle Ressourcen werden immer knapper. An dieser 
 Veranstaltung werden diesbezüglich zwei neue Ansätze diskutiert: Digital
 es Testsystem Gebäudetechnik (DTS) und Automatisierte Performance-Überwa
 chung.
 Maskenpflicht und Anmeldung obligatorisch
LOCATION:Beatenpl. 2\, 8001 Zürich\, Schweiz
DTSTART:20200909T154500Z
DTEND:20200909T171500Z
DTSTAMP:20260421T093310Z
ORGANIZER;CN=IFMA Schweiz :MAILTO:admin@ifma.ch
GEO:47.37578;8.540698
X-APPLE-STRUCTURED-LOCATION;VALUE=URI;X-ADDRESS=Beatenpl. 2\, 8001 Zürich\
 , Schweiz;X-APPLE-RADIUS=72;X-TITLE=Zürich\, EWZ Vortragssaal:47.37578;8.
 540698
END:VEVENT
END:VCALENDAR