BEGIN:VCALENDAR
VERSION:2.0
PRODID:Events Booking
BEGIN:VEVENT
UID:69e74f63aa52e
SUMMARY:Architektonischer und energetischer Blickfang
DESCRIPTION:Die Sonne dient als Hauptenergiequelle für das Mehrfamilienhau
 s\, das vom Architekturbüro Vera Gloor AG entworfen wurde. Der Minergie-P
 -Standard wird übertroffen\, dank einer hochgedämmten Gebäudehülle\, e
 iner dachintegrierten PV-Anlage und grosszügigen Fensteröffnungen nach S
 üden und Westen mit manuell bedienbaren PV-Schiebeläden.
LOCATION:Wiesenstrasse 13\, 8700 Küsnacht\, Schweiz
DTSTART:20210907T151500Z
DTEND:20210907T170000Z
DTSTAMP:20260421T122019Z
ORGANIZER;CN=IFMA Schweiz :MAILTO:admin@ifma.ch
GEO:47.310529;8.589704
X-APPLE-STRUCTURED-LOCATION;VALUE=URI;X-ADDRESS=Wiesenstrasse 13\, 8700 Kü
 snacht\, Schweiz;X-APPLE-RADIUS=72;X-TITLE=Küsnacht\, Plusenergiehaus:47.
 310529;8.589704
END:VEVENT
END:VCALENDAR