BEGIN:VCALENDAR
VERSION:2.0
PRODID:Events Booking
BEGIN:VEVENT
UID:69e6507babb3e
SUMMARY:Advanced Building Skins
DESCRIPTION:Die 11. internationale Konferenz zur Gebäudehülle der Zukunft
  ist eine Plattform für Baufachleute und Wissenschaftler. Im Mittelpunkt 
 der Konferenz stehen aktuelle Entwicklungen im Design von Gebäudehüllen 
 sowie neue Produkte zur Steigerung der Energie&shy\;effizienz von Dach und
  Fassade. Ein weiterer Schwerpunkt ist die Integration erneuer&shy\;barer 
 Energien in Gebäudehüllen.
 Die Vorträge werden in englischer und deut
 scher Sprache gehalten (ohne Simultanübersetzung).
 &nbsp\;
LOCATION:Kornhausstrasse 3\, 3013 Bern\, Schweiz
DTSTART:20161010T060000Z
DTEND:20161011T150000Z
DTSTAMP:20260420T181243Z
ORGANIZER;CN=IFMA Schweiz :MAILTO:admin@ifma.ch
GEO:46.953097;7.449378
X-APPLE-STRUCTURED-LOCATION;VALUE=URI;X-ADDRESS=Kornhausstrasse 3\, 3013 Be
 rn\, Schweiz;X-APPLE-RADIUS=72;X-TITLE=Bern\, Kursaal:46.953097;7.449378
END:VEVENT
END:VCALENDAR