BEGIN:VCALENDAR
VERSION:2.0
PRODID:Events Booking
BEGIN:VEVENT
UID:69e74f3fb2e6a
SUMMARY:6. Schweizer Hygiene-Tagung
DESCRIPTION:Am Vormittag berichten Fachleute zu den brennenden Fragen der Z
 u- und Raumluftqualität. Sie reflektieren die Erfahrungen der vergangenen
  Jahre und berücksichtigen dabei aktuelle Erkenntnisse zur Verbreitung vo
 n COVID-19 über den Luftweg.
 Der Nachmittag ist der Trinkwasserverteilu
 ng im Gebäude gewidmet. Bezüglich Hygiene und Gesundheitsrisiko liegt da
 s Hauptaugenmerk dabei auf den Legionellen.
LOCATION:Brown Boveri Pl. 1\, 5400 Baden\, Schweiz
DTSTART:20210910T063000Z
DTEND:20210910T154500Z
DTSTAMP:20260421T121943Z
ORGANIZER;CN=IFMA Schweiz :MAILTO:admin@ifma.ch
GEO:47.478669;8.305394
X-APPLE-STRUCTURED-LOCATION;VALUE=URI;X-ADDRESS=Brown Boveri Pl. 1\, 5400 B
 aden\, Schweiz;X-APPLE-RADIUS=72;X-TITLE=Baden\, Trafo:47.478669;8.305394
END:VEVENT
END:VCALENDAR