BEGIN:VCALENDAR
VERSION:2.0
PRODID:Events Booking
BEGIN:VEVENT
UID:69e4e2d1e2f78
SUMMARY:Zürcher Klimatagung
DESCRIPTION:Die erste Zürcher Klimatagung «Wie die Stadt zum Schwamm wird
 ». Lernen Sie inspirierende Schwammstadt-Pilotprojekte aus der Schweiz un
 d dem benachbarten Ausland kennen und erfahren Sie Aktuelles aus der Forsc
 hung. Diskutieren Sie mit\, wie wir das Schwammstadt-Prinzip in der Areal-
  und Immobilienentwicklung umsetzen und wie wir räumliche\, organisatoris
 che oder fachliche Grenzen überwinden.
LOCATION:Stauffacherstrasse 60\, 8004 Zürich\, Schweiz
DTSTART:20250123T073000Z
DTEND:20250123T160000Z
DTSTAMP:20241112T064545Z
ORGANIZER;CN=IFMA Schweiz :MAILTO:admin@ifma.ch
GEO:47.375423;8.527326
X-APPLE-STRUCTURED-LOCATION;VALUE=URI;X-ADDRESS=Stauffacherstrasse 60\, 800
 4 Zürich\, Schweiz;X-APPLE-RADIUS=72;X-TITLE=Zürich\, Volkshaus:47.37542
 3;8.527326
END:VEVENT
END:VCALENDAR