BEGIN:VCALENDAR
VERSION:2.0
PRODID:Events Booking
BEGIN:VEVENT
UID:69e761c5431dd
SUMMARY:Konferenz Smart Building Management 2026: Optimierung im Betrieb
DESCRIPTION:Die eintägige\, praxisorientierte Konferenz behandelt Smart Bu
 ilding Management als steuerbares Instrument zur Erreichung messbarer Effi
 zienz- und Leistungsziele. Anhand konkreter Praxisbeispiele\, unter andere
 m zur Implementierung von Künstlicher Intelligenz in der Gebäudeoptimier
 ung\, wird aufgezeigt\, wie Smart Building Management und neue Technologie
 n zu Kosteneinsparungen\, effizienteren Betriebsprozessen\, verbesserter E
 nergieeffizienz\, menschenzentrierten Vorteilen sowie messbaren Nachhaltig
 keitsgewinnen beitragen können. Die vermittelten Implementierungsschritte
  sind so aufgebaut\, dass sie unmittelbar in der Praxis angewendet werden 
 können.
LOCATION:Technopark\, Technoparkstrasse 1\, 8005 Zürich\, Schweiz
DTSTART:20260908T070000Z
DTEND:20260908T150000Z
DTSTAMP:20260330T152332Z
ORGANIZER;CN=IFMA Schweiz :MAILTO:admin@ifma.ch
GEO:47.389844;8.515625
X-APPLE-STRUCTURED-LOCATION;VALUE=URI;X-ADDRESS=Technopark\, Technoparkstra
 sse 1\, 8005 Zürich\, Schweiz;X-APPLE-RADIUS=72;X-TITLE=Zürich\, Technop
 ark:47.389844;8.515625
END:VEVENT
END:VCALENDAR