BEGIN:VCALENDAR
VERSION:2.0
PRODID:Events Booking
BEGIN:VEVENT
UID:69ea1c0c2e163
SUMMARY:BIM im klarTEXT!
DESCRIPTION:Modellbasierte Zusammenarbeit zwischen Architektur und Tragwerk
 .Der Event beleuchtet die modellbasierte Ausführungsplanung von Architekt
 ur und Tragwerk in LOD 300 bis LOD 500 sowie die Übergabe und Nutzung der
  Modelle durch Baumeister und Bauleitung auf der Baustelle.Die Veranstaltu
 ng wird auch online durchgeführt.
LOCATION:Zollstrasse 115\, 8005 Zürich\, Schweiz
DTSTART:20220922T150000Z
DTEND:20220922T170000Z
DTSTAMP:20220902T143836Z
ORGANIZER;CN=IFMA Schweiz :MAILTO:admin@ifma.ch
GEO:47.381544;8.530251
X-APPLE-STRUCTURED-LOCATION;VALUE=URI;X-ADDRESS=Zollstrasse 115\, 8005 Zür
 ich\, Schweiz;X-APPLE-RADIUS=72;X-TITLE=Zürich\, Architekturforum:47.3815
 44;8.530251
END:VEVENT
END:VCALENDAR