BEGIN:VCALENDAR
VERSION:2.0
PRODID:Events Booking
BEGIN:VEVENT
UID:69eb961f0b8b2
SUMMARY:Webinar IFMA Meets: Smart Services for a Smarter World
DESCRIPTION:
 Programm
 
 In this use case\, we will explore the applica
 tion of digital twins in maintaining optimal cooling conditions and ensuri
 ng efficient operations in a server room.
 The digital twin is a powerful
  tool for integrating people\, processes\, and devices to deliver crucial 
 outcomes. By leveraging the capabilities of the digital twin\, we can effe
 ctively monitor the server room's temperature and quickly identify and add
 ress any deviations or potential failures. This proactive approach enables
  us to take immediate action and prevent significant consequences.
 Furth
 ermore\, the digital twin supports automation\, streamlining routine tasks
  and freeing resources for more critical activities. Additionally\, it emp
 owers decision-making by providing real-time insights and data analysis\, 
 allowing for informed choices and optimized performance.
LOCATION:Zürich\, Schweiz
DTSTART:20231002T143000Z
DTEND:20231002T153000Z
DTSTAMP:20230227T102208Z
ORGANIZER;CN=IFMA Schweiz :MAILTO:admin@ifma.ch
GEO:47.376887;8.541694
X-APPLE-STRUCTURED-LOCATION;VALUE=URI;X-ADDRESS=Zürich\, Schweiz;X-APPLE-R
 ADIUS=72;X-TITLE=online:47.376887;8.541694
END:VEVENT
END:VCALENDAR