BEGIN:VCALENDAR
VERSION:2.0
PRODID:Events Booking
BEGIN:VEVENT
UID:69e6f1fbe7af4
SUMMARY:What if…the global construction industry adopted a common data st
 andard?
DESCRIPTION:Projections suggest that the global&nbsp\; construction industr
 y will be worth US$12\,031.1 billion to the global economy by 2024. In spi
 te of an apparent slowness to digitalise\, the sector is increasingly data
  rich. Is the establishment of a global data standard and achievable ambit
 ion? What would be the effect of such a standard on projects cost\, delive
 ry\, waste and sustainability? And how close are we to having a global lan
 guage for construction data?
DTSTART:20201007T090000Z
DTEND:20201007T100000Z
DTSTAMP:20260421T054147Z
ORGANIZER;CN=IFMA Schweiz :MAILTO:admin@ifma.ch
END:VEVENT
END:VCALENDAR