BEGIN:VCALENDAR
VERSION:2.0
PRODID:Events Booking
BEGIN:VEVENT
UID:69e70aaabe1e8
SUMMARY:Webinar BIM & Tools: Projektplattform Bimplus
DESCRIPTION:Bimplus ist eine Webbasierte Modell-\, Daten und Projektplattfo
 rm. Durch die Plattform können Sie durch gleichzeitigen\, ortsunabhängig
 en Zugriff aller Projektbeteiligten auf den aktuellen Planungsstand und di
 e definierten Aufgaben effizienter werden. Zudem kann das Projekt kosteng
 ünstiger und qualitativ hochwertiger umgesetzt werden\, da Planungsinkons
 istenzen vor Baubeginn erkannt und behoben werden können.
LOCATION:Zürich\, Schweiz
DTSTART:20210304T100000Z
DTEND:20210304T110000Z
DTSTAMP:20260421T072706Z
ORGANIZER;CN=IFMA Schweiz :MAILTO:admin@ifma.ch
GEO:47.376887;8.541694
X-APPLE-STRUCTURED-LOCATION;VALUE=URI;X-ADDRESS=Zürich\, Schweiz;X-APPLE-R
 ADIUS=72;X-TITLE=online:47.376887;8.541694
END:VEVENT
END:VCALENDAR