BEGIN:VCALENDAR
VERSION:2.0
PRODID:Events Booking
BEGIN:VEVENT
UID:69e7549957289
SUMMARY:Planer- und Integratorentag
DESCRIPTION:THE CIRCLE wird vorgestellt von den Planern und KNX Herstellern
 . Zudem gibt es einen Marktplatz der KNX Hersteller wo die Produkte im Det
 ail erläutert werden.
LOCATION:The Circle 27 Flughafen CH\, 8058 Zürich\, Schweiz
DTSTART:20210827T101500Z
DTEND:20210827T160000Z
DTSTAMP:20260421T124233Z
ORGANIZER;CN=IFMA Schweiz :MAILTO:admin@ifma.ch
GEO:47.450742;8.565265
X-APPLE-STRUCTURED-LOCATION;VALUE=URI;X-ADDRESS=The Circle 27 Flughafen CH\
 , 8058 Zürich\, Schweiz;X-APPLE-RADIUS=72;X-TITLE=THE CIRCLE\, Hyatt Rege
 ncy\, Convention Center:47.450742;8.565265
END:VEVENT
END:VCALENDAR