BEGIN:VCALENDAR
VERSION:2.0
PRODID:Events Booking
BEGIN:VEVENT
UID:69ea07a0846d0
SUMMARY:Open Source / Open Data
DESCRIPTION:Chancen von Open Source und Open Data für die Bauindustrie.
LOCATION:Zürich\, Schweiz
DTSTART:20240131T070000Z
DTEND:20240131T080000Z
DTSTAMP:20231206T133119Z
ORGANIZER;CN=IFMA Schweiz :MAILTO:admin@ifma.ch
GEO:47.376887;8.541694
X-APPLE-STRUCTURED-LOCATION;VALUE=URI;X-ADDRESS=Zürich\, Schweiz;X-APPLE-R
 ADIUS=72;X-TITLE=online:47.376887;8.541694
END:VEVENT
END:VCALENDAR