BEGIN:VCALENDAR
VERSION:2.0
PRODID:Events Booking
BEGIN:VEVENT
UID:69e6f1dda59c6
SUMMARY:fmpro Netzwerktreffen Zentralschweiz
DESCRIPTION:Das Netzwerktreffen Herbst findet bei der Brauerei Eichhof in L
 uzern statt. Auf einem spannenden Rundgang kann man einen Blick hinter die
  Kulissen werfen. Anschliessend erwartet Sie eine Bier-Degustation mit ein
 em kleinen Imbiss.&nbsp\;
LOCATION:Obergrundstrasse 110\, 6002 Luzern\, Schweiz
DTSTART:20201021T144500Z
DTEND:20201021T173000Z
DTSTAMP:20260421T054117Z
ORGANIZER;CN=IFMA Schweiz :MAILTO:admin@ifma.ch
GEO:47.040712;8.298726
X-APPLE-STRUCTURED-LOCATION;VALUE=URI;X-ADDRESS=Obergrundstrasse 110\, 6002
  Luzern\, Schweiz;X-APPLE-RADIUS=72;X-TITLE=Luzern\, Brauerei Eichhof:47.0
 40712;8.298726
END:VEVENT
END:VCALENDAR