BEGIN:VCALENDAR
VERSION:2.0
PRODID:Events Booking
BEGIN:VEVENT
UID:69ea07d98a92b
SUMMARY:Nestlé: Perspectives offertes par la digitalisation
DESCRIPTION:Défis de la digitalisation lors d’une rénovation majeure\, 
 Claudio Buccola\, Buildings Maintenance\, Automation &amp\; Energy Manager
  Nestlé Enterprises S.A.
 La compréhension des besoins du client\, clé
  de la réussite finale\, Alain Courvoisier\, Responsable et chef de proje
 t\, Paul Vaucher SA
 Comprendre l‘IoT: Fondamentaux et cas d‘utilisat
 ion\, Chris Schneider\, Responsable en Automation du bâtiment A+W Zürich
LOCATION:Av. Nestlé 55\, 1800 Vevey\, Schweiz
DTSTART:20231120T160000Z
DTEND:20231120T183000Z
DTSTAMP:20231030T142822Z
ORGANIZER;CN=IFMA Schweiz :MAILTO:admin@ifma.ch
GEO:46.467409;6.834769
X-APPLE-STRUCTURED-LOCATION;VALUE=URI;X-ADDRESS=Av. Nestlé 55\, 1800 Vevey
 \, Schweiz;X-APPLE-RADIUS=72;X-TITLE=:46.467409;6.834769
END:VEVENT
END:VCALENDAR