BEGIN:VCALENDAR
VERSION:2.0
PRODID:Events Booking
BEGIN:VEVENT
UID:69e754c2a4cd8
SUMMARY:Lagergebäude Opernhaus
DESCRIPTION:Das Opernhaus Zürich verfügt über sehr eingeschränkte Lager
 möglichkeiten in seinem Hauptgebäude. Deswegen wird das Lagergebäude in
  Zürich Oerlikon benötigt. Im Zuge einer gut zweijährigen Gesamtsanieru
 ng wurde die Lagerfläche mittels Aufstockung verdoppelt.Die neue Erschein
 ung gliedert sich hervorragend ins Quartier ein. Die Fassade erinnert an e
 inen Theatervorhang. Die Sanierung im laufenden Opernbetrieb stellte die V
 erantwortlichen vor komplexe logistische Herausforderungen\, besonders kom
 plexe Arbeiten wurden auf die Spielpausen des Opernhauses gelegt. Auf dem 
 Dach entstand eine PV-Anlage\, die mit einer ökologischen Dachbegrünung 
 kombiniert wurde.
LOCATION:Binzmühlestrasse 210\, 8050 Zürich\, Schweiz
DTSTART:20210817T151500Z
DTEND:20210817T170000Z
DTSTAMP:20260421T124314Z
ORGANIZER;CN=IFMA Schweiz :MAILTO:admin@ifma.ch
GEO:47.41408;8.531311
X-APPLE-STRUCTURED-LOCATION;VALUE=URI;X-ADDRESS=Binzmühlestrasse 210\, 805
 0 Zürich\, Schweiz;X-APPLE-RADIUS=72;X-TITLE=Zürich\, Lagergebäude Oper
 nhaus:47.41408;8.531311
END:VEVENT
END:VCALENDAR