BEGIN:VCALENDAR
VERSION:2.0
PRODID:Events Booking
BEGIN:VEVENT
UID:69e738e52babf
SUMMARY:Kunsthaus Erweiterungsbau
DESCRIPTION:Von ersten Hearings 2001 bis zur Schlüsselübergabe im Dezembe
 r 2020 entstand am Heimplatz mitten in Zürich der neue Erweiterungsbau de
 s Kunsthauses Zürich. Bei der Erweiterung nimmt die Kunsthaus-Bauherrscha
 ft dabei mit der Ausrichtung nach den Zielen der 2000-Watt-Gesellschaft ei
 ne Vorreiterrolle im Museumsbau ein.
LOCATION:Heimplatz 1\, 8001 Zürich\, Schweiz
DTSTART:20210714T150000Z
DTEND:20210714T163000Z
DTSTAMP:20260421T104421Z
ORGANIZER;CN=IFMA Schweiz :MAILTO:admin@ifma.ch
GEO:47.370112;8.547861
X-APPLE-STRUCTURED-LOCATION;VALUE=URI;X-ADDRESS=Heimplatz 1\, 8001 Zürich\
 , Schweiz;X-APPLE-RADIUS=72;X-TITLE=Zürich\, Kunsthaus Neubau:47.370112;8
 .547861
END:VEVENT
END:VCALENDAR