BEGIN:VCALENDAR
VERSION:2.0
PRODID:Events Booking
BEGIN:VEVENT
UID:69e693a5b52f9
SUMMARY:Instandhaltungstag 2018
DESCRIPTION:Viele Unternehmen stehen vor der Herausforderung\, genügend Fa
 ch- und Führungskräfte für die Instandhaltung von Anlagen und Gebäuden
  zu finden. Über Referate und Podiumsdiskussion wird die Entwicklungen in
  technischen Berufen auf und Massnahmen\, um dem Fachkräftemangel entgege
 nzuwirken gezeigt.
LOCATION:Murtenstrasse 100\, 3008 Bern
DTSTART:20181205T121500Z
DTEND:20181205T173000Z
DTSTAMP:20260420T225917Z
ORGANIZER;CN=IFMA Schweiz :MAILTO:admin@ifma.ch
GEO:46.951434;7.413776
X-APPLE-STRUCTURED-LOCATION;VALUE=URI;X-ADDRESS=Murtenstrasse 100\, 3008 Be
 rn;X-APPLE-RADIUS=72;X-TITLE=:46.951434;7.413776
END:VEVENT
END:VCALENDAR