BEGIN:VCALENDAR
VERSION:2.0
PRODID:Events Booking
BEGIN:VEVENT
UID:69e66b21367bf
SUMMARY:Immohealthcare Kongress 2017
DESCRIPTION:Die Rahmenbedingungen im Gesundheitswesen haben sich in den let
 zten Jahren grundlegend gewandelt. Mit der Einführung der freien Spitalwa
 hl oder der leistungsorientierten Finanzierung haben sich insbesondere die
  Spitäler mit grossen Veränderungen auseinander setzen müssen. Dieses J
 ahr werden insbes. die Herausforderungen im Kanton Schwyz thematisiert.
LOCATION:Seedammstrasse 3\, 8808 Freienbach\, Schweiz
DTSTART:20170516T060000Z
DTEND:20170516T150000Z
DTSTAMP:20260420T200625Z
ORGANIZER;CN=IFMA Schweiz :MAILTO:admin@ifma.ch
GEO:47.203615;8.79018
X-APPLE-STRUCTURED-LOCATION;VALUE=URI;X-ADDRESS=Seedammstrasse 3\, 8808 Fre
 ienbach\, Schweiz;X-APPLE-RADIUS=72;X-TITLE=Pfäffikon\, Seedamm Plaza:47.
 203615;8.79018
END:VEVENT
END:VCALENDAR