BEGIN:VCALENDAR
VERSION:2.0
PRODID:Events Booking
BEGIN:VEVENT
UID:69e75a9f3a841
SUMMARY:Good Morning FM! 2020
DESCRIPTION:Die Suurstoffi gilt als erstes CO2-neutrales Mischnutzungsareal
  in der Schweiz. Lassen Sie sich von den Fachleuten der Eigentümerschaft 
 und der Arealbetreiber in die Ideen\, Hintergründe und Erfahrungen einwei
 hen. Gestärkt von einem Frühstück nehmen wir das Areal unter die Lupe u
 nd werden uns augenscheinlich überzeugen von den innovativen Energien und
  Gestaltungsmassnahmen.
LOCATION:Zürich\, Schweiz
DTSTART:20201124T070000Z
DTEND:20201124T110000Z
DTSTAMP:20260421T130815Z
ORGANIZER;CN=IFMA Schweiz :MAILTO:admin@ifma.ch
GEO:47.376887;8.541694
X-APPLE-STRUCTURED-LOCATION;VALUE=URI;X-ADDRESS=Zürich\, Schweiz;X-APPLE-R
 ADIUS=72;X-TITLE=online:47.376887;8.541694
END:VEVENT
END:VCALENDAR